BEGIN:VCALENDAR
VERSION:2.0
PRODID:-//Bassin minier Nord-Pas de Calais - Patrimoine mondial - ECPv5.10.1//NONSGML v1.0//EN
CALSCALE:GREGORIAN
METHOD:PUBLISH
X-WR-CALNAME:Bassin minier Nord-Pas de Calais - Patrimoine mondial
X-ORIGINAL-URL:https://bassinminier-patrimoinemondial.org
X-WR-CALDESC:évènements pour Bassin minier Nord-Pas de Calais - Patrimoine mondial
BEGIN:VTIMEZONE
TZID:Europe/Paris
BEGIN:DAYLIGHT
TZOFFSETFROM:+0100
TZOFFSETTO:+0200
TZNAME:CEST
DTSTART:20210328T010000
END:DAYLIGHT
BEGIN:STANDARD
TZOFFSETFROM:+0200
TZOFFSETTO:+0100
TZNAME:CET
DTSTART:20211031T010000
END:STANDARD
END:VTIMEZONE
BEGIN:VEVENT
DTSTART;TZID=Europe/Paris:20211003T150000
DTEND;TZID=Europe/Paris:20211003T150000
DTSTAMP:20260422T103203
CREATED:20210922T093242Z
LAST-MODIFIED:20210922T093623Z
UID:5745-1633273200-1633273200@bassinminier-patrimoinemondial.org
SUMMARY:Voyage en terrain connu
DESCRIPTION:[vc_row][vc_column][vc_column_text]En route pour une nouvelle visite pleine d’émotions et de drôlerie… Comédiennes et médiateur feront voyager les participants des temples d’Abou Simbel au Bassin minier. Avec eux\, ils perceront le mystère d’une inscription sur la prestigieuse Liste du Patrimoine mondial de l’UNESCO ![/vc_column_text][/vc_column][/vc_row]
URL:https://bassinminier-patrimoinemondial.org/evenementbm/voyage-en-terrain-connu/2021-10-03/
LOCATION:Cité des Électriciens\, Rue Franklin\, Bruay-la-Buissière\, 62700\, France
CATEGORIES:vedette
ATTACH;FMTTYPE=image/jpeg:https://bassinminier-patrimoinemondial.org/wp-content/uploads/2021/09/voyage-terrain-connu-1-e1632305209603.jpg
END:VEVENT
BEGIN:VEVENT
DTSTART;TZID=Europe/Paris:20211006T143000
DTEND;TZID=Europe/Paris:20211006T143000
DTSTAMP:20260422T103203
CREATED:20210922T095509Z
LAST-MODIFIED:20210922T095656Z
UID:5752-1633530600-1633530600@bassinminier-patrimoinemondial.org
SUMMARY:Du grand paysage aux jardins
DESCRIPTION:[vc_row][vc_column][vc_column_text]Des noirs terrils aux verdoyants jardins potagers\, l’industrie minière a profondément marqué le territoire. Médiateurs et visiteurs décryptent ces paysages en perpétuelle évolution et parcourent les jardins de la Cité pour comprendre leurs usages d’hier à aujourd’hui.[/vc_column_text][/vc_column][/vc_row]
URL:https://bassinminier-patrimoinemondial.org/evenementbm/du-grand-paysage-aux-jardins/2021-10-06/
LOCATION:Cité des Électriciens\, Rue Franklin\, Bruay-la-Buissière\, 62700\, France
CATEGORIES:vedette
ATTACH;FMTTYPE=image/jpeg:https://bassinminier-patrimoinemondial.org/wp-content/uploads/2021/09/Du-grand-paysage-jardins-Credit-Anteale-1-e1632305195183.jpg
END:VEVENT
BEGIN:VEVENT
DTSTART;TZID=Europe/Paris:20211006T143000
DTEND;TZID=Europe/Paris:20211006T143000
DTSTAMP:20260422T103203
CREATED:20210922T101104Z
LAST-MODIFIED:20210922T101104Z
UID:5757-1633530600-1633530600@bassinminier-patrimoinemondial.org
SUMMARY:Secrets de jardins
DESCRIPTION:[vc_row][vc_column][vc_column_text]En explorant les jardins au fil des saisons\, les plus jeunes découvrent la richesse des fruits\, légumes\, fleurs et herbes des potagers de la Cité. Une invitation au jardinage qui met les cinq sens en éveil ![/vc_column_text][/vc_column][/vc_row]
URL:https://bassinminier-patrimoinemondial.org/evenementbm/secrets-de-jardins/2021-10-06/
LOCATION:Cité des Électriciens\, Rue Franklin\, Bruay-la-Buissière\, 62700\, France
CATEGORIES:vedette
ATTACH;FMTTYPE=image/jpeg:https://bassinminier-patrimoinemondial.org/wp-content/uploads/2021/09/Secrets-de-jardins-Credit-Blandine-Joannic-de-Pixabay-1-e1632305181145.jpg
END:VEVENT
BEGIN:VEVENT
DTSTART;TZID=Europe/Paris:20211007T210000
DTEND;TZID=Europe/Paris:20211007T210000
DTSTAMP:20260422T103203
CREATED:20210927T070641Z
LAST-MODIFIED:20210927T070641Z
UID:5857-1633640400-1633640400@bassinminier-patrimoinemondial.org
SUMMARY:Tempo300 - le voyage unique
DESCRIPTION:[vc_row][vc_column][vc_column_text]Réservation et pass sanitaire OBLIGATOIRE \nSEANCES DISPONIBLES A LA RESERVATION (300 personnes par séances) \n\nJeudi 7 octobre à 21h et 22h30\nVendredi 8 octobre à 19h30\, 21h et 22h30\nSamedi 9 octobre à 19h30\, 21h et 22h30\n\nUn parcours spectacle au cœur du parc municipal de Fresnes-sur-Escaut. Initialement prévu en juin 2020\, à l’occasion des 300 ans de la découverte du charbon\, le spectacle événement “Tempo 300” a dû être reprogrammé les 7\, 8 et 9 octobre 2021. \nRéservation obligatoire sur la billetterie de l’Office de Tourisme de Valenciennes. \n  \nLE CHARBON POUR HISTOIRE \nTempo 300 vous invite à voyager dans le temps : une immersion unique dans les époques et les histoires qui ont forgé notre territoire. Le spectateur partira dans des dimensions insoupçonnées\, au cœur de sa propre perception de l’histoire minière ! Ce voyage unique pose ses scènes à la tombée de la nuit dans le parc Joliot-Curie de Fresnes-sur-Escaut en s’adossant à ces monuments emblématiques. \nUN SPECTACLE A VIVRE A 360° \nA travers un dispositif original\, le spectateur va vivre un voyage\, guidé par le rythme d’un temps qui file bruyamment\, porté par un commando de feu et de percussions qui l’entraînera de rêve en souvenir. La mise en image des bâtiments\, tantôt phare\, décor ou livre d’images\, illustrera l’action. Les minéraux\, les végétaux\, et même la partie aquatique\, seront utilisés comme supports de projections. \nUNE QUESTION DE TEMPO\, POUR 300 SPECTATEURS. \nA la tombée de la nuit dès 19h30 au rythme de 3 séquences par soirée\, le public est convié sur la place Vaillant-Couturier puis accompagné aux portes du parc. 300 spectateurs réunis simultanément autour d’une idée simple “si tout a été écrit\, que reste-t-il à dire ?”. \nLAISSEZ-VOUS GUIDER \nEn huit étapes et en 50 minutes\, orchestrées par un rythme aux accents industriels\, les spectateurs se laisseront guider à travers un paysage aux couleurs changeantes. La nuit laissera dans leur mémoire des personnages singuliers et des images assourdissantes. Tout au long de la soirée\, une guinguette dancing sera ouverte\, mise en scène également\, figée dans une époque\, elle sera le cœur du projet\, rassemblant les publics et proposera à boire et à manger en continue.[/vc_column_text][/vc_column][/vc_row]
URL:https://bassinminier-patrimoinemondial.org/evenementbm/tempo300-le-voyage-unique/2021-10-07/
CATEGORIES:vedette
ATTACH;FMTTYPE=image/jpeg:https://bassinminier-patrimoinemondial.org/wp-content/uploads/2021/09/csm_affiche_tempo300_pour_le_web_72dpi_aa7b377693-e1632726564499.jpg
END:VEVENT
BEGIN:VEVENT
DTSTART;TZID=Europe/Paris:20211008T203000
DTEND;TZID=Europe/Paris:20211008T203000
DTSTAMP:20260422T103203
CREATED:20210922T102841Z
LAST-MODIFIED:20210922T103949Z
UID:5761-1633725000-1633725000@bassinminier-patrimoinemondial.org
SUMMARY:Parcours mapping sur le site minier d'Arenberg
DESCRIPTION:A cette occasion\, le public pourra découvrir un parcours de Mappings organisé par l’association Rencontres Audiovisuelles sur différents espaces intérieurs/extérieurs du site Arenberg Creative Mine ainsi qu’une performance circassienne dans la grande Halle. \nLe mapping sera visible le 8 et le 9 dès 20h30.
URL:https://bassinminier-patrimoinemondial.org/evenementbm/parcours-mapping/2021-10-08/
LOCATION:Site minier d’Arenberg\, Avenue Michel Rondet\, Wallers\, 59135\, France
CATEGORIES:vedette
ATTACH;FMTTYPE=image/png:https://bassinminier-patrimoinemondial.org/wp-content/uploads/2021/09/2-Plan-du-parcours-et-mapping-sur-compresseur-©-A.-Manier-©-F.-Delferiere-e1632306497514.png
END:VEVENT
BEGIN:VEVENT
DTSTART;TZID=Europe/Paris:20211009T140000
DTEND;TZID=Europe/Paris:20211010T180000
DTSTAMP:20260422T103203
CREATED:20210922T110310Z
LAST-MODIFIED:20210922T120913Z
UID:5772-1633788000-1633888800@bassinminier-patrimoinemondial.org
SUMMARY:fête de la science
DESCRIPTION:[vc_row][vc_column][vc_column_text]Escape Game\, films avec casque VR\, light Painting\, station Météo\, mapping sur maquette du site minier\, projections de courts métrages des étudiants\, conférence sur la carbochimie dans le valenciennois par Jean-Marie Mirot\, projet holographique Pepper’s Ghost avec un ancien mineur de Wallers Arenberg\, ateliers au travers d’expérimentations scientifiques… \nLes animations sont ouvertes au public le samedi et le dimanche de 14h à 18h.[/vc_column_text][/vc_column][/vc_row]
URL:https://bassinminier-patrimoinemondial.org/evenementbm/fete-de-la-science/
LOCATION:Site minier d’Arenberg\, Avenue Michel Rondet\, Wallers\, 59135\, France
CATEGORIES:vedette
ATTACH;FMTTYPE=image/jpeg:https://bassinminier-patrimoinemondial.org/wp-content/uploads/2021/09/AGENDA-Fete-science-scaled-e1632308584628.jpg
END:VEVENT
BEGIN:VEVENT
DTSTART;TZID=Europe/Paris:20211013T143000
DTEND;TZID=Europe/Paris:20211013T143000
DTSTAMP:20260422T103203
CREATED:20210922T132205Z
LAST-MODIFIED:20210922T132205Z
UID:5776-1634135400-1634135400@bassinminier-patrimoinemondial.org
SUMMARY:Vivre en cité minière
DESCRIPTION:[vc_row][vc_column][vc_column_text]En cité minière\, la vie est rythmée par les tâches quotidiennes\, les loisirs et les fêtes traditionnelles. À l’intérieur des logements\, en l’espace de deux siècles\, le décor et l’aménagement se diversifient. Les visiteurs remontent le temps pour percevoir l’évolution progressive des modes de vie.[/vc_column_text][/vc_column][/vc_row]
URL:https://bassinminier-patrimoinemondial.org/evenementbm/vivre-en-cite-miniere/2021-10-13/
LOCATION:Cité des Électriciens\, Rue Franklin\, Bruay-la-Buissière\, 62700\, France
CATEGORIES:vedette
ATTACH;FMTTYPE=image/jpeg:https://bassinminier-patrimoinemondial.org/wp-content/uploads/2021/09/Vivre-cite-miniere-Credit-Ancien-Habitant-de-la-cite-1-e1632316914925.jpg
END:VEVENT
BEGIN:VEVENT
DTSTART;TZID=Europe/Paris:20211013T143000
DTEND;TZID=Europe/Paris:20211013T143000
DTSTAMP:20260422T103203
CREATED:20210922T132400Z
LAST-MODIFIED:20210922T132400Z
UID:5780-1634135400-1634135400@bassinminier-patrimoinemondial.org
SUMMARY:De l’architecte au  maçon
DESCRIPTION:[vc_row][vc_column][vc_column_text]Composée de plusieurs centaines de milliers de briques\, la cité des Électriciens ne s’est pas construite en un jour ! Comment monter un mur et faire en sorte qu’il reste debout ? Tout est une question de plans\, de matériaux… et d’imagination ![/vc_column_text][/vc_column][/vc_row]
URL:https://bassinminier-patrimoinemondial.org/evenementbm/de-larchitecte-au-macon/2021-10-13/
LOCATION:Cité des Électriciens\, Rue Franklin\, Bruay-la-Buissière\, 62700\, France
CATEGORIES:vedette
ATTACH;FMTTYPE=image/jpeg:https://bassinminier-patrimoinemondial.org/wp-content/uploads/2021/09/De-larchitecte-au-macon-Credit-Cite-des-Electriciens-1-e1632316996171.jpg
END:VEVENT
BEGIN:VEVENT
DTSTART;TZID=Europe/Paris:20211023T180000
DTEND;TZID=Europe/Paris:20211023T193000
DTSTAMP:20260422T103203
CREATED:20210922T133128Z
LAST-MODIFIED:20210922T134043Z
UID:5784-1635012000-1635017400@bassinminier-patrimoinemondial.org
SUMMARY:JEU NON ÉLUCIDÉ
DESCRIPTION:[vc_row][vc_column][vc_column_text]rencontre avec Jérémy Moncheaux\, peintre\, dessinateur et illustrateur. \nEn 2020\, un cadavre a été retrouvé au puits n°2 de la fosse Delloye derrière une trappe scellée. Qui est-il ? Que lui est-il arrivé ? À vous d’enquêter pour résoudre ce mystère…\nSur réservation.[/vc_column_text][/vc_column][/vc_row]
URL:https://bassinminier-patrimoinemondial.org/evenementbm/jeu-non-elucide/
LOCATION:Centre Historique Minier\, Fosse Delloye\, Rue d'Erchin\, Lewarde\, 59287\, France
CATEGORIES:vedette
ATTACH;FMTTYPE=image/jpeg:https://bassinminier-patrimoinemondial.org/wp-content/uploads/2021/09/Jeu-non-elucide©Centre-Historique-Minier-scaled-e1632317402883.jpg
END:VEVENT
BEGIN:VEVENT
DTSTART;TZID=Europe/Paris:20211027T140000
DTEND;TZID=Europe/Paris:20211027T170000
DTSTAMP:20260422T103203
CREATED:20210922T135102Z
LAST-MODIFIED:20210922T135102Z
UID:5792-1635343200-1635354000@bassinminier-patrimoinemondial.org
SUMMARY:Il était une fois …  Delloye
DESCRIPTION:[vc_row][vc_column][vc_column_text]50 ans après la fermeture de la fosse Delloye\, les galibots partent à la découverte de l’histoire du site et de sa transformation en musée et conçoivent une carte d’anniversaire animée.[/vc_column_text][/vc_column][/vc_row]
URL:https://bassinminier-patrimoinemondial.org/evenementbm/il-etait-une-fois-delloye/
LOCATION:Centre Historique Minier\, Fosse Delloye\, Rue d'Erchin\, Lewarde\, 59287\, France
CATEGORIES:vedette
ATTACH;FMTTYPE=image/jpeg:https://bassinminier-patrimoinemondial.org/wp-content/uploads/2021/09/Atelier-du-galibot-Il-etait-une-fois-Delloye-©-Centre-Historique-Minier-scaled-e1632318652313.jpg
END:VEVENT
BEGIN:VEVENT
DTSTART;TZID=Europe/Paris:20211028T150000
DTEND;TZID=Europe/Paris:20211028T150000
DTSTAMP:20260422T103203
CREATED:20210922T135326Z
LAST-MODIFIED:20210922T135326Z
UID:5795-1635433200-1635433200@bassinminier-patrimoinemondial.org
SUMMARY:Apprenti galibot
DESCRIPTION:[vc_row][vc_column][vc_column_text]En famille\, les visiteurs explorent le paysage urbain aux abords de la Cité des Électriciens. En compagnie d’une trieuse\, ils empruntent le trajet des mineurs jusqu’à la fosse 1. Cette balade se prolonge par un goûter (inclus dans le tarif de la visite). En partenariat avec l’Office de tourisme de Béthune-Bruay.[/vc_column_text][/vc_column][/vc_row]
URL:https://bassinminier-patrimoinemondial.org/evenementbm/apprenti-galibot/2021-10-28/
LOCATION:Cité des Électriciens\, Rue Franklin\, Bruay-la-Buissière\, 62700\, France
CATEGORIES:vedette
ATTACH;FMTTYPE=image/jpeg:https://bassinminier-patrimoinemondial.org/wp-content/uploads/2021/09/Apprenti-Galibot-Credit-Cite-des-Electriciens-1-e1632318756341.jpg
END:VEVENT
BEGIN:VEVENT
DTSTART;TZID=Europe/Paris:20211029T190000
DTEND;TZID=Europe/Paris:20211029T190000
DTSTAMP:20260422T103203
CREATED:20210922T140103Z
LAST-MODIFIED:20210922T140103Z
UID:5799-1635534000-1635534000@bassinminier-patrimoinemondial.org
SUMMARY:Horizons miniers
DESCRIPTION:[vc_row][vc_column][vc_column_text]Rencontre avec Jérémy Moncheaux\, peintre\, dessinateur et illustrateur. \nPlongez dans l’univers de la mine de Jérémy Moncheaux qui nous livre sa vision du Bassin minier. Petit-fils de mineur\, il a souhaité revenir sur les traces de cette histoire et nous dépeint à travers ses portraits et son court métrage «Mineurs» une représentation fantasmagorique du quotidien des travailleurs de la mine. Gratuit.[/vc_column_text][/vc_column][/vc_row]
URL:https://bassinminier-patrimoinemondial.org/evenementbm/horizons-miniers/
LOCATION:9-9bis\, Carreau de Fosse 9-9bis - Rue du Tordoir - BP16\, Oignies\, 62590
CATEGORIES:vedette
ATTACH;FMTTYPE=image/jpeg:https://bassinminier-patrimoinemondial.org/wp-content/uploads/2021/09/Horizons-minierscJeremy-Moncheaux-e1632319238803.jpg
END:VEVENT
BEGIN:VEVENT
DTSTART;TZID=Europe/Paris:20211030T160000
DTEND;TZID=Europe/Paris:20211030T160000
DTSTAMP:20260422T103203
CREATED:20210922T140405Z
LAST-MODIFIED:20210922T140405Z
UID:5804-1635609600-1635609600@bassinminier-patrimoinemondial.org
SUMMARY:jeux de mains\, jeux de mine !
DESCRIPTION:[vc_row][vc_column][vc_column_text]Pour fêter le début des vacances d’automne\, venez jouer\, au 9-9bis\, à l’occasion d’une journée pas comme les autres ! En famille ou entre amis\, poussez les portes du carreau de fosse et défiez vos adversaires autour de jeux de plateau\, de stratégie ou familiaux portant sur la mine. Que le meilleur gagne ! La session de 16h est destinée au jeune public et aux familles\, celle de 19h aux adultes. Gratuit.[/vc_column_text][/vc_column][/vc_row]
URL:https://bassinminier-patrimoinemondial.org/evenementbm/jeux-de-mains-jeux-de-mine/
LOCATION:9-9bis\, Carreau de Fosse 9-9bis - Rue du Tordoir - BP16\, Oignies\, 62590
CATEGORIES:vedette
ATTACH;FMTTYPE=image/jpeg:https://bassinminier-patrimoinemondial.org/wp-content/uploads/2021/09/Jeux-de-mains-jeux-de-mine-c-9-9bis-scaled-e1632319406591.jpg
END:VEVENT
BEGIN:VEVENT
DTSTART;TZID=Europe/Paris:20211030T180000
DTEND;TZID=Europe/Paris:20211030T180000
DTSTAMP:20260422T103203
CREATED:20210922T140628Z
LAST-MODIFIED:20210922T140628Z
UID:5807-1635616800-1635616800@bassinminier-patrimoinemondial.org
SUMMARY:Murmures du fond
DESCRIPTION:[vc_row][vc_column][vc_column_text]Découvrez le 9-9bis en musique ! Laissez-vous guider par le violon d’amour norvégien de Margaux Liénard et le bouzouki grec de Julien Biget : ils vous feront entendre des musiques insoupçonnées de la région. Cette déambulation musicale sera accompagnée de commentaires patrimoniaux pour découvrir l’histoire du site tout en douceur et poésie.[/vc_column_text][/vc_column][/vc_row]
URL:https://bassinminier-patrimoinemondial.org/evenementbm/murmures-du-fond/
LOCATION:9-9bis\, Carreau de Fosse 9-9bis - Rue du Tordoir - BP16\, Oignies\, 62590
CATEGORIES:vedette
ATTACH;FMTTYPE=image/jpeg:https://bassinminier-patrimoinemondial.org/wp-content/uploads/2021/09/flanerie_sol_mineur-margaux-lienard-980x360-1-e1632319577370.jpg
END:VEVENT
END:VCALENDAR